BEGIN:VCALENDAR
VERSION:2.0
PRODID:-//eventon.com NONSGML v1.0//EN
CALSCALE:GREGORIAN
METHOD:PUBLISH
BEGIN:VEVENT
UID:69e88a9a17d84
DTSTAMP:20260422T084514Z
DTSTART:20250527T100000Z
DTEND:20250527T120000Z
LOCATION:Top Golf 4627 Koval Ln\,  Las Vegas\,  NV 89109
SUMMARY:Top Golf - Mental Health Hangout
DESCRIPTION:Come hang out at Top Golf and destress with some golf therapy a
 nd good company to boost your mental health! &nbsp; Welcome to Top Golf &#8
 211; Mental Health Hangout! Join us for a fun and relaxing time at Topgolf 
 Las Vegas. This event is all about taking a break\,  enjoying[..]\nhttps://
 mhhangout.vegas/events/top-golf-mental-health-hangout-2/
URL:https://mhhangout.vegas/events/top-golf-mental-health-hangout-2/
END:VEVENT
END:VCALENDAR